BEGIN:VCALENDAR
VERSION:2.0
PRODID:icalendar-ruby
CALSCALE:GREGORIAN
METHOD:PUBLISH
BEGIN:VEVENT
DTSTAMP:20260424T211920Z
UID:57-460552@berwickag.org
DTSTART:20260506T223000Z
DTEND:20260506T233000Z
CLASS:PUBLIC
CREATED:20260422T111343
DESCRIPTION:It is easy for "I'll pray for you" to become a phrase we say wi
 thout following through. This exchange of mugs turns a daily habit into a 
 sacred moment. Whether you’re sipping morning coffee or winding down wit
 h evening tea\, you’ll know that somewhere else\, another sister in Chri
 st is holding a mug and whispering your name to the Father.\n\n"Therefore 
 encourage one another and build each other up\, just as in fact you are do
 ing." — 1 Thessalonians 5:11\n\nReady to get brewing? Bring your mug by 
 Weds. May 6th. On May 13th\, we will exchange our mugs at "His &amp\; Hers
 ". We can't wait to see how God uses these mugs to knit our hearts togethe
 r in prayer!
LAST-MODIFIED:20260422T111343
LOCATION:Off-Site
SUMMARY:Women's Prayer Cup Exchange
URL;VALUE=URI:https://www.berwickag.org/events/womens-prayer-cup-exchange/2
 026-05-06
ATTACH;FILENAME=2026-Mug-Event-01-1.png;FMTTYPE=image/png:https://dq5pwpg1q
 8ru0.cloudfront.net/2026/04/21/19/58/41/0939bc31-2aad-4293-a0b1-e9f31252f1
 ae/2026-Mug-Event-01-1.png
END:VEVENT
END:VCALENDAR
