BEGIN:VCALENDAR
VERSION:2.0
PRODID:icalendar-ruby
CALSCALE:GREGORIAN
METHOD:PUBLISH
BEGIN:VEVENT
DTSTAMP:20260421T113612Z
UID:51-435482@berwickag.org
DTSTART:20260425T000000Z
DTEND:20260425T050000Z
CLASS:PUBLIC
CREATED:20260410T115242
DESCRIPTION:Únete a nosotros para un tiempo de oración y alabanza. \nCele
 bremos a Jesús juntos y disfrutemos de un tiempo prolongado buscando al S
 eñor.
LAST-MODIFIED:20260410T115242
LOCATION:
SUMMARY:Vigilia-Noche de Oración Familiar
URL;VALUE=URI:https://www.berwickag.org/events/vigilia-noche-de-oracion-fam
 iliar--51/2026-04-24
END:VEVENT
END:VCALENDAR
