BEGIN:VCALENDAR
VERSION:2.0
PRODID:icalendar-ruby
CALSCALE:GREGORIAN
METHOD:PUBLISH
BEGIN:VEVENT
DTSTAMP:20260419T120956Z
UID:12-453667@berwickag.org
DTSTART:20260419T220000Z
DTEND:20260420T000000Z
CLASS:PUBLIC
CREATED:20260419T041243
DESCRIPTION:Join us every Sunday at 6pm for Varsity 1Eighty\, open to all s
 tudents in grades 8-12.\nTo learn more about 1Eighty\, click here.
LAST-MODIFIED:20260419T041243
LOCATION:Berwick Assembly of God
SUMMARY:Varsity 1Eighty
URL;VALUE=URI:https://www.berwickag.org/events/varsity-1eighty/2026-04-19
ATTACH;FILENAME=Varisty-Logo-%28Gray%29.png;FMTTYPE=image/png:https://dq5pw
 pg1q8ru0.cloudfront.net/2025/10/21/22/15/03/b3a62a73-ae37-4985-9b4b-88fbcf
 b68191/Varisty-Logo-%2528Gray%2529.png
END:VEVENT
END:VCALENDAR
