BEGIN:VCALENDAR
VERSION:2.0
PRODID:icalendar-ruby
CALSCALE:GREGORIAN
METHOD:PUBLISH
BEGIN:VEVENT
DTSTAMP:20260424T212340Z
UID:72-464882@berwickag.org
DTSTART:20260604T224500Z
DTEND:20260605T000000Z
CLASS:PUBLIC
CREATED:20260424T111425
DESCRIPTION:Click here for more information.
LAST-MODIFIED:20260424T111425
LOCATION:Off-Site
SUMMARY:United Married Group
URL;VALUE=URI:https://www.berwickag.org/events/united-married-group--72/202
 6-06-04
ATTACH;FILENAME=United-Married-Group-Image.jpg;FMTTYPE=image/jpeg:https://d
 q5pwpg1q8ru0.cloudfront.net/2026/04/24/15/14/25/dfafb396-8405-4822-b009-eb
 19eaaf7a70/United-Married-Group-Image.jpg
END:VEVENT
END:VCALENDAR
