BEGIN:VCALENDAR
VERSION:2.0
PRODID:icalendar-ruby
CALSCALE:GREGORIAN
METHOD:PUBLISH
BEGIN:VEVENT
DTSTAMP:20260424T212425Z
UID:71-464881@berwickag.org
DTSTART:20260507T220000Z
DTEND:20260508T000000Z
CLASS:PUBLIC
CREATED:20260424T110841
DESCRIPTION:Click here for more information.
LAST-MODIFIED:20260424T110841
LOCATION:Off-Site
SUMMARY:United Married Group
URL;VALUE=URI:https://www.berwickag.org/events/united-married-group--71/202
 6-05-07
ATTACH;FILENAME=United-Married-Group-Image.jpg;FMTTYPE=image/jpeg:https://d
 q5pwpg1q8ru0.cloudfront.net/2026/04/24/15/08/40/d25874ea-f87e-42d8-b31d-53
 c21e8af6f1/United-Married-Group-Image.jpg
END:VEVENT
END:VCALENDAR
