BEGIN:VCALENDAR
VERSION:2.0
PRODID:icalendar-ruby
CALSCALE:GREGORIAN
METHOD:PUBLISH
BEGIN:VEVENT
DTSTAMP:20260425T000322Z
UID:56-458759@berwickag.org
DTSTART:20260702T224500Z
DTEND:20260702T234500Z
CLASS:PUBLIC
CREATED:20260421T122600
DESCRIPTION:Click here for more info or to let us know you are coming.
LAST-MODIFIED:20260421T122600
LOCATION:Off-Site
SUMMARY:United Married Group
URL;VALUE=URI:https://www.berwickag.org/events/united-married-group--56/202
 6-07-02
ATTACH;FILENAME=United-Married-Group-Image.jpg;FMTTYPE=image/jpeg:https://d
 q5pwpg1q8ru0.cloudfront.net/2026/04/09/20/22/32/037910c7-93a8-42f5-941e-c1
 b7f8a001ba/United-Married-Group-Image.jpg
END:VEVENT
END:VCALENDAR
