BEGIN:VCALENDAR
VERSION:2.0
PRODID:icalendar-ruby
CALSCALE:GREGORIAN
METHOD:PUBLISH
BEGIN:VEVENT
DTSTAMP:20260420T042940Z
UID:11-455359@berwickag.org
DTSTART:20260621T143000Z
DTEND:20260621T155000Z
CLASS:PUBLIC
CREATED:20260420T002014
DESCRIPTION:The church gathered\, worshipping together\nWe want you to be c
 omfortable joining us this Sunday!\nService will typically last approximat
 ely 75 minutes. We provide childare for our youngest members and children'
 s ministry for kids in grades K-4.\n\nWe'll be led in music by our worship
  team and we'll conclude the service with a message from one of our pastor
 s. Plan to come early or stick around after to enjoy coffee or tea in the 
 foyer &amp\; make some new friends!
LAST-MODIFIED:20260420T002014
LOCATION:Berwick Assembly of God
SUMMARY:Sunday Service
URL;VALUE=URI:https://www.berwickag.org/events/sunday-service--11/2026-06-2
 1
ATTACH;FILENAME=Sunday-AM-Service-Thumbnail.png;FMTTYPE=image/png:https://d
 q5pwpg1q8ru0.cloudfront.net/2025/10/21/22/14/00/b173887d-05c7-4516-a427-1e
 e866cb2d9c/Sunday-AM-Service-Thumbnail.png
END:VEVENT
END:VCALENDAR
