BEGIN:VCALENDAR
VERSION:2.0
PRODID:icalendar-ruby
CALSCALE:GREGORIAN
METHOD:PUBLISH
BEGIN:VEVENT
DTSTAMP:20260424T164633Z
UID:66-460945@berwickag.org
DTSTART:20260610T223000Z
DTEND:20260610T233000Z
CLASS:PUBLIC
CREATED:20260422T131209
DESCRIPTION:Get ready to slip\, slide\, and celebrate! It’s time for MPK
 ’s annual Waterslide Wednesdays. We’re bringing out the massive 20-foo
 t slip &amp\; slides behind the church for an evening of epic summer fun.\
 n\n\nBring a towel\, a modest swimsuit\, and a dry change of clothes!\n\n\
 nDon’t miss out on the coolest event of the summer. See you at the top o
 f the slide!
LAST-MODIFIED:20260422T131209
LOCATION: Berwick Assembly of God
SUMMARY:MPK Waterslide Wednesdays
URL;VALUE=URI:https://www.berwickag.org/events/mpk-waterslide-wednesdays--6
 6/2026-06-10
ATTACH;FILENAME=10.png;FMTTYPE=image/png:https://dq5pwpg1q8ru0.cloudfront.n
 et/2026/04/22/17/12/09/7ac718c4-83b6-4f1c-a095-826412fb1069/10.png
END:VEVENT
END:VCALENDAR
