BEGIN:VCALENDAR
VERSION:2.0
PRODID:icalendar-ruby
CALSCALE:GREGORIAN
METHOD:PUBLISH
BEGIN:VEVENT
DTSTAMP:20260424T170155Z
UID:61-459478@berwickag.org
DTSTART:20260523T143000Z
DTEND:20260523T160000Z
CLASS:PUBLIC
CREATED:20260421T163911
DESCRIPTION:Calling all our littlest ones and their families! MPK Nursery i
 s heading to Salem Twp. Park\, and we want you to join us for a morning of
  sunshine\, snacks\, and sweet fellowship.\nThis is a special invitation f
 or our nursery-age kids (ages 2-5) and their families to get out of the ho
 use and into the fresh air. While the toddlers explore the grass and play\
 , it’s a perfect opportunity for moms and dads to relax\, chat\, and bui
 ld connections with other parents in the same season of life.
LAST-MODIFIED:20260421T163911
LOCATION:
SUMMARY:MPK Picnic at the Park
URL;VALUE=URI:https://www.berwickag.org/events/mpk-picnic-at-the-park/2026-
 05-23
ATTACH;FILENAME=9.png;FMTTYPE=image/png:https://dq5pwpg1q8ru0.cloudfront.ne
 t/2026/04/21/20/39/10/830a2586-133b-44d0-a8b3-1e0b6d3cd037/9.png
END:VEVENT
END:VCALENDAR
