BEGIN:VCALENDAR
VERSION:2.0
PRODID:icalendar-ruby
CALSCALE:GREGORIAN
METHOD:PUBLISH
BEGIN:VEVENT
DTSTAMP:20260424T164633Z
UID:54-433381@berwickag.org
DTSTART:20260505T210000Z
DTEND:20260505T223000Z
CLASS:PUBLIC
CREATED:20260409T115216
DESCRIPTION:It's nacho average celebration!\nCalling all MPK Elementary Stu
 dents (K-4th grade) and their families!\nTaco-bout it and come for the foo
 d\, fun &amp\; family!\nFrom 5p-6:30p | Dont guac away!
LAST-MODIFIED:20260409T115216
LOCATION: Berwick Assembly of God
SUMMARY:MPK Cinco de Mayo | Taco Tuesday
URL;VALUE=URI:https://www.berwickag.org/events/mpk-cinco-de-mayo-taco-tuesd
 ay/2026-05-05
ATTACH;FILENAME=MPK-Breeze-Headers-Cinco-De-Mayo.png;FMTTYPE=image/png:http
 s://dq5pwpg1q8ru0.cloudfront.net/2026/04/09/15/49/35/497b60bc-98e2-4403-96
 d5-33edc0f6baae/MPK-Breeze-Headers-Cinco-De-Mayo.png
END:VEVENT
END:VCALENDAR
