BEGIN:VCALENDAR
VERSION:2.0
PRODID:icalendar-ruby
CALSCALE:GREGORIAN
METHOD:PUBLISH
BEGIN:VEVENT
DTSTAMP:20260424T205748Z
UID:74-465242@berwickag.org
DTSTART:20260619T210000Z
DTEND:20260620T000000Z
CLASS:PUBLIC
CREATED:20260424T114809
DESCRIPTION:Need a night out? We’ve got you covered!\nHave your kids join
  us for a Babysitting Fundraiser for BGMC on June 19th from 5-8p. Safe 
 childcare\, fun activities for kids\, and all proceeds support missions. $
 15/child\nLet your kids be part of the shenanigans! 
LAST-MODIFIED:20260424T114809
LOCATION: Berwick Assembly of God
SUMMARY:MPK Babysitting for BGMC
URL;VALUE=URI:https://www.berwickag.org/events/mpk-babysitting-for-bgmc/202
 6-06-19
ATTACH;FILENAME=MPK-Kids-Babysitting-for-BGMC-web-version.png;FMTTYPE=image
 /png:https://dq5pwpg1q8ru0.cloudfront.net/2026/04/24/15/38/22/a1e3011c-14d
 e-41b6-a665-f74a382ca98d/MPK-Kids-Babysitting-for-BGMC-web-version.png
END:VEVENT
END:VCALENDAR
