BEGIN:VCALENDAR
VERSION:2.0
PRODID:icalendar-ruby
CALSCALE:GREGORIAN
METHOD:PUBLISH
BEGIN:VEVENT
DTSTAMP:20260424T211609Z
UID:70-460954@berwickag.org
DTSTART:20260515T220000Z
DTEND:20260516T000000Z
CLASS:PUBLIC
CREATED:20260422T143206
DESCRIPTION:On May 15th\, join  us from 6-8p for good food and some intent
 ional time. Join us behind the church (or inside depending on weather) for
  a father-son cookout.\nIt’s a simple night to grab a burger\, play some
  games\, and catch up with one another.
LAST-MODIFIED:20260422T143206
LOCATION:
SUMMARY:Men's Cookout
URL;VALUE=URI:https://www.berwickag.org/events/mens-cookout/2026-05-15
ATTACH;FILENAME=Mens-Cookout-Image-May.png;FMTTYPE=image/png:https://dq5pwp
 g1q8ru0.cloudfront.net/2026/04/22/18/30/34/3cccdaf3-19af-43af-b2a8-0aeae6c
 0ebdd/Mens-Cookout-Image-May.png
END:VEVENT
END:VCALENDAR
