BEGIN:VCALENDAR
VERSION:2.0
PRODID:icalendar-ruby
CALSCALE:GREGORIAN
METHOD:PUBLISH
BEGIN:VEVENT
DTSTAMP:20260424T212443Z
UID:62-459480@berwickag.org
DTSTART:20260531T143000Z
DTEND:20260531T170000Z
CLASS:PUBLIC
CREATED:20260421T170507
DESCRIPTION:On the 5th Sunday of the month\, our family gets a little bigge
 r. We invite you to stay immediately following the service for a community
 -style meal. It’s a time to relax\, connect\, and enjoy great food with 
 friends old and new. All are welcome at the table!
LAST-MODIFIED:20260421T170507
LOCATION:
SUMMARY:Family Sunday
URL;VALUE=URI:https://www.berwickag.org/events/family-sunday--62/2026-05-31
ATTACH;FILENAME=Family-Sunday-Image---May-2026-1.png;FMTTYPE=image/png:http
 s://dq5pwpg1q8ru0.cloudfront.net/2026/04/21/21/02/32/a4f16a00-b9f2-43db-bc
 a7-834d1e61fbac/Family-Sunday-Image---May-2026-1.png
END:VEVENT
END:VCALENDAR
