BEGIN:VCALENDAR
VERSION:2.0
PRODID:icalendar-ruby
CALSCALE:GREGORIAN
METHOD:PUBLISH
BEGIN:VEVENT
DTSTAMP:20260424T200116Z
UID:63-460950@berwickag.org
DTSTART:20260429T220000Z
DTEND:20260430T000000Z
CLASS:PUBLIC
CREATED:20260422T133644
DESCRIPTION:Join our whole church family on April 29th at 6p for a screenin
 g of the new animated movie David. It’s an epic musical adventure perfec
 t for kids and adults alike. We’ll provide the popcorn and drinks—you 
 just bring the family!
LAST-MODIFIED:20260422T133644
LOCATION: Berwick Assembly of God
SUMMARY:Family Movie Night
URL;VALUE=URI:https://www.berwickag.org/events/family-movie-night--63/2026-
 04-29
ATTACH;FILENAME=Family-Movie-Night---April-revised-1.png;FMTTYPE=image/png:
 https://dq5pwpg1q8ru0.cloudfront.net/2026/04/22/17/36/44/67ef730c-d097-482
 6-a8ad-c0c4bd769817/Family-Movie-Night---April-revised-1.png
END:VEVENT
END:VCALENDAR
