BEGIN:VCALENDAR
VERSION:2.0
PRODID:icalendar-ruby
CALSCALE:GREGORIAN
METHOD:PUBLISH
BEGIN:VEVENT
DTSTAMP:20260424T170141Z
UID:55-433732@berwickag.org
DTSTART:20260505T150000Z
DTEND:20260505T163000Z
CLASS:PUBLIC
CREATED:20260409T161359
DESCRIPTION:Come enjoy a Taco Tuesday meal with us! 
LAST-MODIFIED:20260409T161359
LOCATION: Berwick Assembly of God
SUMMARY:60 PLUS | Taco Tuesday
URL;VALUE=URI:https://www.berwickag.org/events/60-plus-taco-tuesday/2026-05
 -05
ATTACH;FILENAME=60-Website.png;FMTTYPE=image/png:https://dq5pwpg1q8ru0.clou
 dfront.net/2026/04/09/20/13/58/66aaf4e3-b9bf-4a91-8193-55c253b0b6a4/60-Web
 site.png
END:VEVENT
END:VCALENDAR
