BEGIN:VCALENDAR
VERSION:2.0
PRODID:icalendar-ruby
CALSCALE:GREGORIAN
METHOD:PUBLISH
BEGIN:VEVENT
DTSTAMP:20260424T212057Z
UID:73-464883@berwickag.org
DTSTART:20260614T220000Z
DTEND:20260615T000000Z
CLASS:PUBLIC
CREATED:20260424T112733
DESCRIPTION:Hosted by 1Eighty Student Ministries\, this gathering is open t
 o students in grades 5–12 and is designed to help students grow in faith
  while worshiping together in a welcoming environment.
LAST-MODIFIED:20260424T112733
LOCATION: Berwick Assembly of God
SUMMARY:1Eighty Worship Night
URL;VALUE=URI:https://www.berwickag.org/events/1eighty-worship-night--73/20
 26-06-14
ATTACH;FILENAME=1Eighty---June-Worship-Night-Graphic-UPDATED.png;FMTTYPE=im
 age/png:https://dq5pwpg1q8ru0.cloudfront.net/2026/04/24/15/27/33/0bb3893e-
 07ff-4113-8765-718a21025b8d/1Eighty---June-Worship-Night-Graphic-UPDATED.p
 ng
END:VEVENT
END:VCALENDAR
