BEGIN:VCALENDAR
VERSION:2.0
PRODID:icalendar-ruby
CALSCALE:GREGORIAN
METHOD:PUBLISH
BEGIN:VEVENT
DTSTAMP:20260424T212057Z
UID:59-460550@berwickag.org
DTSTART:20260524T220000Z
DTEND:20260525T000000Z
CLASS:PUBLIC
CREATED:20260422T110949
DESCRIPTION:1Eighty Q&amp\;A Night is a relaxed\, welcoming evening where s
 tudents can ask honest questions about faith and life. Our Varsity student
 s will have open conversations\, hear biblical insight\, and grow together
  in a supportive community.\nStudents grades 8-12th are invited to join us
  on Sunday night @ 6p
LAST-MODIFIED:20260422T110949
LOCATION: Berwick Assembly of God
SUMMARY:1Eighty Varsity Q&A
URL;VALUE=URI:https://www.berwickag.org/events/1eighty-varsity-q-a--59/2026
 -05-24
ATTACH;FILENAME=1Eighty---Quarter-2-QA-Night.png;FMTTYPE=image/png:https://
 dq5pwpg1q8ru0.cloudfront.net/2026/04/22/15/09/49/a7ba4c84-b17d-4310-b8c3-3
 543d2ef1f48/1Eighty---Quarter-2-QA-Night.png
END:VEVENT
END:VCALENDAR
