BEGIN:VCALENDAR
VERSION:2.0
PRODID:icalendar-ruby
CALSCALE:GREGORIAN
METHOD:PUBLISH
BEGIN:VEVENT
DTSTAMP:20260424T200034Z
UID:52-433026@berwickag.org
DTSTART:20260503T220000Z
DTEND:20260504T000000Z
CLASS:PUBLIC
CREATED:20260409T113347
DESCRIPTION:Varsity Students can  give during the service (6p-8p)\, and an
 yone can participate by purchasing a special snack bar item. All snack bar
  proceeds will be donated to missions.
LAST-MODIFIED:20260409T113347
LOCATION: Berwick Assembly of God
SUMMARY:1Eighty Varsity Missions Night
URL;VALUE=URI:https://www.berwickag.org/events/1eighty-varsity-missions-nig
 ht/2026-05-03
ATTACH;FILENAME=1Eighty---May-Missions-Night.png;FMTTYPE=image/png:https://
 dq5pwpg1q8ru0.cloudfront.net/2026/04/09/15/31/47/5e8406e5-2c15-4c51-b970-3
 3645f4eae60/1Eighty---May-Missions-Night.png
END:VEVENT
END:VCALENDAR
