BEGIN:VCALENDAR
VERSION:2.0
PRODID:icalendar-ruby
CALSCALE:GREGORIAN
METHOD:PUBLISH
BEGIN:VEVENT
DTSTAMP:20260424T212109Z
UID:58-460549@berwickag.org
DTSTART:20260520T223000Z
DTEND:20260520T233000Z
CLASS:PUBLIC
CREATED:20260422T110853
DESCRIPTION:1Eighty Q&amp\;A Night is a relaxed\, welcoming evening where s
 tudents can ask honest questions about faith and life. Students will have 
 open conversations\, hear biblical insight\, and grow together in a suppor
 tive community.\nStudents in grades 5-7th are invited to join us on Wednes
 day @ 6:30p.
LAST-MODIFIED:20260422T110853
LOCATION: Berwick Assembly of God
SUMMARY:1Eighty JV Q&A Night
URL;VALUE=URI:https://www.berwickag.org/events/1eighty-jv-q-a-night--58/202
 6-05-20
ATTACH;FILENAME=1Eighty---Quarter-2-QA-Night-UPDATED.png;FMTTYPE=image/png:
 https://dq5pwpg1q8ru0.cloudfront.net/2026/04/22/15/08/53/c3e6f6da-f4a1-4d3
 1-bc6b-fabed99d2837/1Eighty---Quarter-2-QA-Night-UPDATED.png
END:VEVENT
END:VCALENDAR
