BEGIN:VCALENDAR
VERSION:2.0
PRODID:icalendar-ruby
CALSCALE:GREGORIAN
METHOD:PUBLISH
BEGIN:VEVENT
DTSTAMP:20260424T212043Z
UID:53-433376@berwickag.org
DTSTART:20260506T223000Z
DTEND:20260506T233000Z
CLASS:PUBLIC
CREATED:20260409T114014
DESCRIPTION:Students can give during the service\, and anyone can participa
 te by purchasing a special snack bar item. All snack bar proceeds will be 
 donated to missions.
LAST-MODIFIED:20260409T114014
LOCATION: Berwick Assembly of God
SUMMARY:1Eighty JV Missions Night
URL;VALUE=URI:https://www.berwickag.org/events/1eighty-jv-missions-night/20
 26-05-06
ATTACH;FILENAME=1Eighty---May-Missions-Night.png;FMTTYPE=image/png:https://
 dq5pwpg1q8ru0.cloudfront.net/2026/04/09/15/40/13/f560852f-0305-4874-a8eb-8
 698164c0de5/1Eighty---May-Missions-Night.png
END:VEVENT
END:VCALENDAR
