BEGIN:VCALENDAR
VERSION:2.0
PRODID:icalendar-ruby
CALSCALE:GREGORIAN
METHOD:PUBLISH
BEGIN:VEVENT
DTSTAMP:20260424T212340Z
UID:69-460952@berwickag.org
DTSTART:20260627T140000Z
DTEND:20260627T180000Z
CLASS:PUBLIC
CREATED:20260422T135115
DESCRIPTION:Stop by our car wash on June 20th and support Beyond Violence!\
 nWe’re scrubbing for a cause—all donations go toward this local progra
 m that provides crisis intervention and support services.\nLet’s come to
 gether to drive out domestic violence\, one vehicle at a time.\nCheck out 
 Beyond Violence Berwick here.
LAST-MODIFIED:20260422T135115
LOCATION: Berwick Assembly of God
SUMMARY:1Eighty Car Wash
URL;VALUE=URI:https://www.berwickag.org/events/1eighty-car-wash/2026-06-27
ATTACH;FILENAME=1Eighty---Car-Wash-JUNE-27.png;FMTTYPE=image/png:https://dq
 5pwpg1q8ru0.cloudfront.net/2026/04/22/17/51/14/13942063-a2bc-4def-beee-e14
 18099987d/1Eighty---Car-Wash-JUNE-27.png
END:VEVENT
END:VCALENDAR
