BEGIN:VCALENDAR
VERSION:2.0
PRODID:icalendar-ruby
CALSCALE:GREGORIAN
METHOD:PUBLISH
BEGIN:VEVENT
DTSTAMP:20260424T211546Z
UID:60-459476@berwickag.org
DTSTART:20260523T000000Z
DTEND:20260523T120000Z
CLASS:PUBLIC
CREATED:20260421T162753
DESCRIPTION:Students 5-12th grade: Are you ready to swap your bed for a bus
  seat? 1Eighty is hosting their annual Bus-a-Thon\, an overnight challenge
  to fuel global missions. This isn't just a sleepover—it's a mission to 
 change lives through Speed the Light.\nStudents will spend the night on a 
 school bus to raise awareness and funds for the essential transportation a
 nd creative communication equipment missionaries need to spread the Gospel
  worldwide.
LAST-MODIFIED:20260421T162753
LOCATION:
SUMMARY:1Eighty Bus-a-thon
URL;VALUE=URI:https://www.berwickag.org/events/1eighty-bus-a-thon/2026-05-2
 2
ATTACH;FILENAME=1Eighty---BusAThon.png;FMTTYPE=image/png:https://dq5pwpg1q8
 ru0.cloudfront.net/2026/04/21/20/27/53/4aca86e8-63ac-4a09-93ac-9a106a63ccf
 b/1Eighty---BusAThon.png
END:VEVENT
END:VCALENDAR
